BEGIN:VCALENDAR
VERSION:2.0
PRODID:-//African Energy Council - ECPv6.15.20//NONSGML v1.0//EN
CALSCALE:GREGORIAN
METHOD:PUBLISH
X-WR-CALNAME:African Energy Council
X-ORIGINAL-URL:https://africanenergycouncil.org
X-WR-CALDESC:Events for African Energy Council
REFRESH-INTERVAL;VALUE=DURATION:PT1H
X-Robots-Tag:noindex
X-PUBLISHED-TTL:PT1H
BEGIN:VTIMEZONE
TZID:UTC
BEGIN:STANDARD
TZOFFSETFROM:+0000
TZOFFSETTO:+0000
TZNAME:UTC
DTSTART:20240101T000000
END:STANDARD
END:VTIMEZONE
BEGIN:VEVENT
DTSTART;TZID=UTC:20250210T080000
DTEND;TZID=UTC:20250215T170000
DTSTAMP:20260425T034235
CREATED:20241129T075120Z
LAST-MODIFIED:20241129T080005Z
UID:7246-1739174400-1739638800@africanenergycouncil.org
SUMMARY:Mastering Sustainability & ESG Strategy for Oil & Gas Professionals: Future-Proofing your Operations
DESCRIPTION:Overview\nThe drive to maximize the production of natural resources (oil\, gas\, coal\, minerals etc) has traditionally fueled economic growth and development\, but it has also led to environmental degradation and resource depletion. Today\, the focus is shifting towards a more responsible approach—one that ensures resources are produced efficiently and sustainably. This shift recognizes the importance of sustainability\, not just as an environmental concern\, but as a critical factor in securing long-term resource availability and business continuity.\nThe African Energy Council has designed this programme to help you understand how to lead in resource-rich industries by incorporating sustainability principles into your strategies\, ensuring\nthat the production of natural resources is done in a responsible and environmentally sound manner that supports future economic growth. \nBenefits and Career Impact\n\nMaster sustainable solutions for the entire oil and gas value chain—upstream\, midstream\, and\ndownstream. Stay informed about upcoming regulations that will reshape ESG and sustainability in the next 2–3 years.\nUnderstand key sustainability risks facing oil and gas companies and how to mitigate them. Learn to foster a culture of sustainability in your organization\, with a focus on success factors and avoiding common mistakes.\nEquip yourself with the tools to create a sustainable business model that thrives in the evolving\nenergy landscape. Learn how to seamlessly integrate circular economy principles into your business strategies.\nUpon completion\, earn a certificate from the African Energy Council\, showcasing your leadership in sustainable practices for the oil and gas industry.\n\nWho attends?\n\nManagers looking to use sustainability as a competitive advantage and drive business growth in a post-pandemic world.\nSenior staff and professionals aiming to achieve business sustainability through innovative solutions and advance their career and lead and organization.\nCorporate sustainability leader and staff\, who have the responsibility for the overall corporate strategy and direction of their organization\nSenior professionals who are seeking to understand how sustainability and ESG issues shape their business\, competition and operating environment.\nRisk professionals who are keen to understand how the changing regulatory landscape with regards sustainability and ESG could impact a company’s operations and bottom line.\n\nDownload Brochure
URL:https://africanenergycouncil.org/event/mastering-sustainability-esg-strategy-for-oil-gas-professionals-future-proofing-your-operations-2/
LOCATION:London/Doha/Johannesburg
CATEGORIES:Trainings
ATTACH;FMTTYPE=image/png:https://africanenergycouncil.org/wp-content/uploads/2024/11/af-training.png
END:VEVENT
END:VCALENDAR